BEGIN:VCALENDAR
VERSION:2.0
PRODID:-//First United Methodist Church-Brighton &amp; Whitmore Lake - ECPv6.15.20//NONSGML v1.0//EN
CALSCALE:GREGORIAN
METHOD:PUBLISH
X-WR-CALNAME:First United Methodist Church-Brighton &amp; Whitmore Lake
X-ORIGINAL-URL:https://www.brightonfumc.org
X-WR-CALDESC:Events for First United Methodist Church-Brighton &amp; Whitmore Lake
REFRESH-INTERVAL;VALUE=DURATION:PT1H
X-Robots-Tag:noindex
X-PUBLISHED-TTL:PT1H
BEGIN:VTIMEZONE
TZID:America/Detroit
BEGIN:DAYLIGHT
TZOFFSETFROM:-0500
TZOFFSETTO:-0400
TZNAME:EDT
DTSTART:20240310T070000
END:DAYLIGHT
BEGIN:STANDARD
TZOFFSETFROM:-0400
TZOFFSETTO:-0500
TZNAME:EST
DTSTART:20241103T060000
END:STANDARD
BEGIN:DAYLIGHT
TZOFFSETFROM:-0500
TZOFFSETTO:-0400
TZNAME:EDT
DTSTART:20250309T070000
END:DAYLIGHT
BEGIN:STANDARD
TZOFFSETFROM:-0400
TZOFFSETTO:-0500
TZNAME:EST
DTSTART:20251102T060000
END:STANDARD
BEGIN:DAYLIGHT
TZOFFSETFROM:-0500
TZOFFSETTO:-0400
TZNAME:EDT
DTSTART:20260308T070000
END:DAYLIGHT
BEGIN:STANDARD
TZOFFSETFROM:-0400
TZOFFSETTO:-0500
TZNAME:EST
DTSTART:20261101T060000
END:STANDARD
END:VTIMEZONE
BEGIN:VEVENT
DTSTART;TZID=America/Detroit:20251123T103000
DTEND;TZID=America/Detroit:20251123T113000
DTSTAMP:20260424T134118
CREATED:20241030T141705Z
LAST-MODIFIED:20251104T222408Z
UID:10000066-1763893800-1763897400@www.brightonfumc.org
SUMMARY:Hanging of the Greens (WL)
DESCRIPTION:Help decorate the church for Advent. Stay after services to help.\n\n10:30-11:30 am at Whitmore Lake Campus\n\nContact Susan Kimball\, susan@brightonfumc.org.
URL:https://www.brightonfumc.org/event/hanging-of-the-greens-wl/
LOCATION:First United Methodist Church-Whitmore Lake Campus\, 9318 Main\, Whitmore Lake\, MI\, 48189
CATEGORIES:Advent,Fellowship
ATTACH;FMTTYPE=image/jpeg:https://www.brightonfumc.org/wp-content/uploads/2022/11/Hanging-of-the-Greens-2023_Event.jpg
ORGANIZER;CN="Susan Kimball":MAILTO:susan@brightonfumc.org
END:VEVENT
BEGIN:VEVENT
DTSTART;TZID=America/Detroit:20251125T100000
DTEND;TZID=America/Detroit:20251125T120000
DTSTAMP:20260424T134118
CREATED:20241030T141853Z
LAST-MODIFIED:20251117T202919Z
UID:10000067-1764064800-1764072000@www.brightonfumc.org
SUMMARY:Hanging of the Greens (B)
DESCRIPTION:Help decorate the church for Advent. Many hands make light work!\n\n10 am at the Brighton Campus\n\nContact Susan (Snow) Kimball\, susan@brightonfumc.org.
URL:https://www.brightonfumc.org/event/hanging-of-the-greens-b/
LOCATION:First United Methodist Church-Brighton Campus\, 400 E Grand River Ave\, Brighton\, MI\, 48116\, United States
CATEGORIES:Advent
ATTACH;FMTTYPE=image/jpeg:https://www.brightonfumc.org/wp-content/uploads/2022/11/Hanging-of-the-Greens-2023_Event.jpg
ORGANIZER;CN="Susan Kimball":MAILTO:susan@brightonfumc.org
END:VEVENT
BEGIN:VEVENT
DTSTART;TZID=America/Detroit:20251129T091500
DTEND;TZID=America/Detroit:20251129T191500
DTSTAMP:20260424T134118
CREATED:20251007T160516Z
LAST-MODIFIED:20251104T212715Z
UID:10002580-1764407700-1764443700@www.brightonfumc.org
SUMMARY:Ring the Bell for Salvation Army
DESCRIPTION:Ring in the holiday season with cheer and generosity. First United Methodist Church volunteers will be bell ringers at  Salvation Army “red kettle” sites on Nov. 29 and Dec. 6. SIGN UP or Contact Bob Hemphill.
URL:https://www.brightonfumc.org/event/ring-the-bell-for-salvation-army/2025-11-29/
LOCATION:Kroger\, 9968 E Grand River Ave\, Brighton\, MI\, 48116\, United States
CATEGORIES:Advent,Mission & Outreach
ATTACH;FMTTYPE=image/jpeg:https://www.brightonfumc.org/wp-content/uploads/2025/10/Bell-Ringers-Needed-2025.jpg
ORGANIZER;CN="Bob Hemphill":MAILTO:rbhemphill@gmail.com
END:VEVENT
END:VCALENDAR