BEGIN:VCALENDAR
VERSION:2.0
PRODID:-//First United Methodist Church-Brighton &amp; Whitmore Lake - ECPv6.15.17.1//NONSGML v1.0//EN
CALSCALE:GREGORIAN
METHOD:PUBLISH
X-WR-CALNAME:First United Methodist Church-Brighton &amp; Whitmore Lake
X-ORIGINAL-URL:https://www.brightonfumc.org
X-WR-CALDESC:Events for First United Methodist Church-Brighton &amp; Whitmore Lake
REFRESH-INTERVAL;VALUE=DURATION:PT1H
X-Robots-Tag:noindex
X-PUBLISHED-TTL:PT1H
BEGIN:VTIMEZONE
TZID:America/Detroit
BEGIN:DAYLIGHT
TZOFFSETFROM:-0500
TZOFFSETTO:-0400
TZNAME:EDT
DTSTART:20240310T070000
END:DAYLIGHT
BEGIN:STANDARD
TZOFFSETFROM:-0400
TZOFFSETTO:-0500
TZNAME:EST
DTSTART:20241103T060000
END:STANDARD
BEGIN:DAYLIGHT
TZOFFSETFROM:-0500
TZOFFSETTO:-0400
TZNAME:EDT
DTSTART:20250309T070000
END:DAYLIGHT
BEGIN:STANDARD
TZOFFSETFROM:-0400
TZOFFSETTO:-0500
TZNAME:EST
DTSTART:20251102T060000
END:STANDARD
BEGIN:DAYLIGHT
TZOFFSETFROM:-0500
TZOFFSETTO:-0400
TZNAME:EDT
DTSTART:20260308T070000
END:DAYLIGHT
BEGIN:STANDARD
TZOFFSETFROM:-0400
TZOFFSETTO:-0500
TZNAME:EST
DTSTART:20261101T060000
END:STANDARD
END:VTIMEZONE
BEGIN:VEVENT
DTSTART;TZID=America/Detroit:20251204T120000
DTEND;TZID=America/Detroit:20251204T130000
DTSTAMP:20260419T150638
CREATED:20241016T183652Z
LAST-MODIFIED:20251216T185410Z
UID:10002519-1764849600-1764853200@www.brightonfumc.org
SUMMARY:The Open Table
DESCRIPTION:We’ve set the table and you are invited to enjoy! Adult lunch and fellowship. A $5 donation is suggested as you are able. \nNote: There will be no Open Table meal in January 2026. \nPlease let us know you are coming. Contact Todd May.
URL:https://www.brightonfumc.org/event/the-open-table/2025-12-04/
LOCATION:First United Methodist Church-Brighton Campus\, 400 E Grand River Ave\, Brighton\, MI\, 48116\, United States
CATEGORIES:Fellowship
ATTACH;FMTTYPE=image/jpeg:https://www.brightonfumc.org/wp-content/uploads/2024/10/The-Open-Table-2024_event_.jpg
ORGANIZER;CN="Todd May":MAILTO:todd.may62@outlook.com
END:VEVENT
BEGIN:VEVENT
DTSTART;TZID=America/Detroit:20251214T130000
DTEND;TZID=America/Detroit:20251214T140000
DTSTAMP:20260419T150638
CREATED:20251104T220306Z
LAST-MODIFIED:20251113T195935Z
UID:10002592-1765717200-1765720800@www.brightonfumc.org
SUMMARY:Caroling at Regency Whitmore Lake
DESCRIPTION:Each Sunday throughout Advent\, you’re invited to explore Wesley’s means of grace and “do some good” through hands-on mission projects. On Sunday\, Dec. 14\, meet at Regency at Whitmore Lake at 1 pm to sing carols for the residents.
URL:https://www.brightonfumc.org/event/caroling-at-regency-whitmore-lake/
LOCATION:Regency at Whitmore Lake\, 8633 Main St\, Whitmore Lake\, MI\, 48189\, United States
CATEGORIES:Advent,Fellowship,Music
ORGANIZER;CN="Pastor Jon":MAILTO:jon@brightonfumc.org
END:VEVENT
BEGIN:VEVENT
DTSTART;TZID=America/Detroit:20251221T123000
DTEND;TZID=America/Detroit:20251221T143000
DTSTAMP:20260419T150638
CREATED:20251104T220526Z
LAST-MODIFIED:20251216T202259Z
UID:10002593-1766320200-1766327400@www.brightonfumc.org
SUMMARY:Caroling - Brighton
DESCRIPTION:Each Sunday throughout Advent\, you’re invited to explore Wesley’s means of grace and “do some good” through hands-on mission projects. On Sunday\, Dec. 21\, meet at the Brighton Campus at 12:30 to depart in groups to carol for homebound parishioners. If you worship at 11 am and want to go caroling\, we’ll have a light lunch. Sign up on your connection card or email Susan Kimball\, Director of Music. \n 
URL:https://www.brightonfumc.org/event/caroling-brighton/
LOCATION:First United Methodist Church-Brighton Campus\, 400 E Grand River Ave\, Brighton\, MI\, 48116\, United States
CATEGORIES:Advent,Fellowship,Music
ATTACH;FMTTYPE=image/jpeg:https://www.brightonfumc.org/wp-content/uploads/2025/11/Weekly-Missions_Caroling-Brighton.jpg
ORGANIZER;CN="Susan Kimball":MAILTO:susan@brightonfumc.org
END:VEVENT
BEGIN:VEVENT
DTSTART;TZID=America/Detroit:20251221T171500
DTEND;TZID=America/Detroit:20251221T213000
DTSTAMP:20260419T150638
CREATED:20231101T163847Z
LAST-MODIFIED:20251028T202545Z
UID:10000065-1766337300-1766352600@www.brightonfumc.org
SUMMARY:Caroling at Greenfield Village
DESCRIPTION:You are invited to sing Christmas carols with the church choir at Holiday Nights in Greenfield Village. Christmas caroling is a wonderful way to enjoy the holiday spirit. Each caroler enters the event for free PLUS\, we receive an extra free ticket for each caroling participant! Sign up with Susan (with the total of singers and guests) as soon as you are able so we can reserve tickets. We usually have extra guest tickets\, so invite a friend!
URL:https://www.brightonfumc.org/event/caroling-at-greenfield-village/
LOCATION:Greenfield Village
CATEGORIES:Advent,Fellowship,Music
ATTACH;FMTTYPE=image/jpeg:https://www.brightonfumc.org/wp-content/uploads/2023/11/GV-Caroling-2025_event.jpg
ORGANIZER;CN="Susan Kimball":MAILTO:susan@brightonfumc.org
END:VEVENT
BEGIN:VEVENT
DTSTART;TZID=America/Detroit:20251228T100000
DTEND;TZID=America/Detroit:20251228T113000
DTSTAMP:20260419T150638
CREATED:20241216T165012Z
LAST-MODIFIED:20251216T165042Z
UID:10002263-1766916000-1766921400@www.brightonfumc.org
SUMMARY:Caroling Singalong
DESCRIPTION:The songs of the Christmas season not only stir our memories and fill our hearts with joy\, they tell the story of Jesus’ birth in a way that connects us deeply to the birth of our Lord and savior\, Jesus Christ. Sing along with Susan Kimball. Following the service stay and enjoy fellowship with a festive brunch. Everyone welcome! \nContact Donna Dibert to help with the brunch. \nNote: Only one worship service on Dec. 28 at the Brighton Campus at 10 am. No Whitmore Lake Campus service.
URL:https://www.brightonfumc.org/event/caroling-singalong/
LOCATION:First United Methodist Church-Brighton Campus\, 400 E Grand River Ave\, Brighton\, MI\, 48116\, United States
CATEGORIES:Advent,Fellowship,Worship & Prayer
ATTACH;FMTTYPE=image/jpeg:https://www.brightonfumc.org/wp-content/uploads/2024/12/All-the-Good-2025-12-28-promo-updated.jpg
END:VEVENT
BEGIN:VEVENT
DTSTART;TZID=America/Detroit:20251228T170000
DTEND;TZID=America/Detroit:20251228T180000
DTSTAMP:20260419T150638
CREATED:20251028T184525Z
LAST-MODIFIED:20251124T180152Z
UID:10002590-1766941200-1766944800@www.brightonfumc.org
SUMMARY:Fish & Loaves Community Dinner
DESCRIPTION:Fish and Loaves is a free community meal in Brighton provided by local churches. First UMC – Brighton Campus hosts the dine-in meal on these 2025 dates: Dec. 28 and 2026: Feb. 22\, April 26\, June 28\, Aug. 23\, Oct. 25\, Dec. 27. You do not need a reservation. We look forward to seeing you. \n\nVolunteers and food donations are welcome.\nContact Deborah Scharp. \nConsider helping in one of these ways: \n\n3:30 pm Set tables\, set up coffee station\, prep food\n5 pm Serve food\, visit with guests\n5:30 pm Dishwashing\nSign Up to provide: desserts\, rolls and salads (or purchase food and turn in receipts for reimbursement)\n\nFish and Loaves is coordinated by Love INC and serves all who come seeking food and fellowship.
URL:https://www.brightonfumc.org/event/fish-loaves-community-dinner/2025-12-28/
LOCATION:First United Methodist Church-Brighton Campus\, 400 E Grand River Ave\, Brighton\, MI\, 48116\, United States
CATEGORIES:Fellowship,Mission & Outreach
ATTACH;FMTTYPE=image/jpeg:https://www.brightonfumc.org/wp-content/uploads/2024/04/Fish-Loaves-2024_web.jpg
END:VEVENT
END:VCALENDAR