BEGIN:VCALENDAR
VERSION:2.0
PRODID:-//First United Methodist Church-Brighton &amp; Whitmore Lake - ECPv6.15.17.1//NONSGML v1.0//EN
CALSCALE:GREGORIAN
METHOD:PUBLISH
X-ORIGINAL-URL:https://www.brightonfumc.org
X-WR-CALDESC:Events for First United Methodist Church-Brighton &amp; Whitmore Lake
REFRESH-INTERVAL;VALUE=DURATION:PT1H
X-Robots-Tag:noindex
X-PUBLISHED-TTL:PT1H
BEGIN:VTIMEZONE
TZID:America/Detroit
BEGIN:DAYLIGHT
TZOFFSETFROM:-0500
TZOFFSETTO:-0400
TZNAME:EDT
DTSTART:20250309T070000
END:DAYLIGHT
BEGIN:STANDARD
TZOFFSETFROM:-0400
TZOFFSETTO:-0500
TZNAME:EST
DTSTART:20251102T060000
END:STANDARD
BEGIN:DAYLIGHT
TZOFFSETFROM:-0500
TZOFFSETTO:-0400
TZNAME:EDT
DTSTART:20260308T070000
END:DAYLIGHT
BEGIN:STANDARD
TZOFFSETFROM:-0400
TZOFFSETTO:-0500
TZNAME:EST
DTSTART:20261101T060000
END:STANDARD
BEGIN:DAYLIGHT
TZOFFSETFROM:-0500
TZOFFSETTO:-0400
TZNAME:EDT
DTSTART:20270314T070000
END:DAYLIGHT
BEGIN:STANDARD
TZOFFSETFROM:-0400
TZOFFSETTO:-0500
TZNAME:EST
DTSTART:20271107T060000
END:STANDARD
END:VTIMEZONE
BEGIN:VEVENT
DTSTART;TZID=America/Detroit:20260328T170000
DTEND;TZID=America/Detroit:20260328T190000
DTSTAMP:20260419T102140
CREATED:20230306T205546Z
LAST-MODIFIED:20260216T171856Z
UID:10000536-1774717200-1774724400@www.brightonfumc.org
SUMMARY:Spaghetti Dinner
DESCRIPTION:Help build homes through Habitat for Humanity just by eating spaghetti! \nA delicious way to support a great cause. The dinner menu includes spaghetti with marinara or meat sauce\, salad\, dinner roll\, desserts\, plus coffee and water. Note: Gluten-free pasta\, vegan cheese\, and gluten-free bread will be available as well. \nReservations are not required\, but your sign-up below will help us plan. Thank you! Donations accepted. Walk-ins welcome! \n\n\nFill out my online form.\n\n  Fill out my Wufoo form!
URL:https://www.brightonfumc.org/event/spaghetti-dinner/
LOCATION:First United Methodist Church-Whitmore Lake Campus\, 9318 Main\, Whitmore Lake\, MI\, 48189
CATEGORIES:Fellowship,Mission & Outreach
ATTACH;FMTTYPE=image/jpeg:https://www.brightonfumc.org/wp-content/uploads/2023/03/Spaghetti-Dinner-2026_March.jpg
ORGANIZER;CN="April Schauer":MAILTO:amschauer19@gmail.com
END:VEVENT
END:VCALENDAR