BEGIN:VCALENDAR
VERSION:2.0
PRODID:-//First United Methodist Church-Brighton &amp; Whitmore Lake - ECPv6.15.17.1//NONSGML v1.0//EN
CALSCALE:GREGORIAN
METHOD:PUBLISH
X-WR-CALNAME:First United Methodist Church-Brighton &amp; Whitmore Lake
X-ORIGINAL-URL:https://www.brightonfumc.org
X-WR-CALDESC:Events for First United Methodist Church-Brighton &amp; Whitmore Lake
REFRESH-INTERVAL;VALUE=DURATION:PT1H
X-Robots-Tag:noindex
X-PUBLISHED-TTL:PT1H
BEGIN:VTIMEZONE
TZID:America/Detroit
BEGIN:DAYLIGHT
TZOFFSETFROM:-0500
TZOFFSETTO:-0400
TZNAME:EDT
DTSTART:20250309T070000
END:DAYLIGHT
BEGIN:STANDARD
TZOFFSETFROM:-0400
TZOFFSETTO:-0500
TZNAME:EST
DTSTART:20251102T060000
END:STANDARD
BEGIN:DAYLIGHT
TZOFFSETFROM:-0500
TZOFFSETTO:-0400
TZNAME:EDT
DTSTART:20260308T070000
END:DAYLIGHT
BEGIN:STANDARD
TZOFFSETFROM:-0400
TZOFFSETTO:-0500
TZNAME:EST
DTSTART:20261101T060000
END:STANDARD
BEGIN:DAYLIGHT
TZOFFSETFROM:-0500
TZOFFSETTO:-0400
TZNAME:EDT
DTSTART:20270314T070000
END:DAYLIGHT
BEGIN:STANDARD
TZOFFSETFROM:-0400
TZOFFSETTO:-0500
TZNAME:EST
DTSTART:20271107T060000
END:STANDARD
END:VTIMEZONE
BEGIN:VEVENT
DTSTART;TZID=America/Detroit:20260603T170000
DTEND;TZID=America/Detroit:20260603T190000
DTSTAMP:20260419T115744
CREATED:20260310T174921Z
LAST-MODIFIED:20260330T211155Z
UID:10002662-1780506000-1780513200@www.brightonfumc.org
SUMMARY:Spoke & Word Cycling Group
DESCRIPTION:You are invited to the Spoke & Word cycling group Wednesday nights at 5 pm at the Trail Connector trailhead near JCPenney in the Green Oak Village Place mall with your bicycle. The group will bike between 7-25 miles to Kensington Metropark and back (early weeks will start easy and build up). Bring water and snacks if needed. All ages and abilities welcome.\n\n 
URL:https://www.brightonfumc.org/event/spoke-word-cycling-group/2026-06-03/
LOCATION:Trail Connector Trailhead\, 9608 Village Pl Blvd\, Brighton\, 48116\, United States
CATEGORIES:Fellowship
ATTACH;FMTTYPE=image/jpeg:https://www.brightonfumc.org/wp-content/uploads/2026/03/Spoke-Word_Event.jpg
ORGANIZER;CN="Pastor Jon":MAILTO:jon@brightonfumc.org
END:VEVENT
BEGIN:VEVENT
DTSTART;TZID=America/Detroit:20260608T123000
DTEND;TZID=America/Detroit:20260608T143000
DTSTAMP:20260419T115744
CREATED:20260331T161227Z
LAST-MODIFIED:20260331T161227Z
UID:10002738-1780921800-1780929000@www.brightonfumc.org
SUMMARY:Memorial Garden Volunteers
DESCRIPTION:Memorial Garden volunteers welcome! You’re invited to be part of the volunteer crew that meets once a month on the second Monday of the month May-November to plant and care for the beautiful memorial garden and the cross and flame garden. Contact Macky Bachelor.
URL:https://www.brightonfumc.org/event/memorial-garden-volunteers-2/2026-06-08/
LOCATION:First United Methodist Church-Brighton Campus\, 400 E Grand River Ave\, Brighton\, MI\, 48116\, United States
CATEGORIES:Fellowship
ATTACH;FMTTYPE=image/jpeg:https://www.brightonfumc.org/wp-content/uploads/2026/03/Memorial-Garden-Volunteers_2026-summer.jpg
ORGANIZER;CN="Macky Bachelor":MAILTO:Bachelorm2@aol.com
END:VEVENT
BEGIN:VEVENT
DTSTART;TZID=America/Detroit:20260610T170000
DTEND;TZID=America/Detroit:20260610T190000
DTSTAMP:20260419T115744
CREATED:20260310T174921Z
LAST-MODIFIED:20260330T211155Z
UID:10002663-1781110800-1781118000@www.brightonfumc.org
SUMMARY:Spoke & Word Cycling Group
DESCRIPTION:You are invited to the Spoke & Word cycling group Wednesday nights at 5 pm at the Trail Connector trailhead near JCPenney in the Green Oak Village Place mall with your bicycle. The group will bike between 7-25 miles to Kensington Metropark and back (early weeks will start easy and build up). Bring water and snacks if needed. All ages and abilities welcome.\n\n 
URL:https://www.brightonfumc.org/event/spoke-word-cycling-group/2026-06-10/
LOCATION:Trail Connector Trailhead\, 9608 Village Pl Blvd\, Brighton\, 48116\, United States
CATEGORIES:Fellowship
ATTACH;FMTTYPE=image/jpeg:https://www.brightonfumc.org/wp-content/uploads/2026/03/Spoke-Word_Event.jpg
ORGANIZER;CN="Pastor Jon":MAILTO:jon@brightonfumc.org
END:VEVENT
BEGIN:VEVENT
DTSTART;TZID=America/Detroit:20260617T170000
DTEND;TZID=America/Detroit:20260617T190000
DTSTAMP:20260419T115744
CREATED:20260310T174921Z
LAST-MODIFIED:20260330T211155Z
UID:10002664-1781715600-1781722800@www.brightonfumc.org
SUMMARY:Spoke & Word Cycling Group
DESCRIPTION:You are invited to the Spoke & Word cycling group Wednesday nights at 5 pm at the Trail Connector trailhead near JCPenney in the Green Oak Village Place mall with your bicycle. The group will bike between 7-25 miles to Kensington Metropark and back (early weeks will start easy and build up). Bring water and snacks if needed. All ages and abilities welcome.\n\n 
URL:https://www.brightonfumc.org/event/spoke-word-cycling-group/2026-06-17/
LOCATION:Trail Connector Trailhead\, 9608 Village Pl Blvd\, Brighton\, 48116\, United States
CATEGORIES:Fellowship
ATTACH;FMTTYPE=image/jpeg:https://www.brightonfumc.org/wp-content/uploads/2026/03/Spoke-Word_Event.jpg
ORGANIZER;CN="Pastor Jon":MAILTO:jon@brightonfumc.org
END:VEVENT
BEGIN:VEVENT
DTSTART;TZID=America/Detroit:20260624T170000
DTEND;TZID=America/Detroit:20260624T190000
DTSTAMP:20260419T115744
CREATED:20260310T174921Z
LAST-MODIFIED:20260330T211155Z
UID:10002665-1782320400-1782327600@www.brightonfumc.org
SUMMARY:Spoke & Word Cycling Group
DESCRIPTION:You are invited to the Spoke & Word cycling group Wednesday nights at 5 pm at the Trail Connector trailhead near JCPenney in the Green Oak Village Place mall with your bicycle. The group will bike between 7-25 miles to Kensington Metropark and back (early weeks will start easy and build up). Bring water and snacks if needed. All ages and abilities welcome.\n\n 
URL:https://www.brightonfumc.org/event/spoke-word-cycling-group/2026-06-24/
LOCATION:Trail Connector Trailhead\, 9608 Village Pl Blvd\, Brighton\, 48116\, United States
CATEGORIES:Fellowship
ATTACH;FMTTYPE=image/jpeg:https://www.brightonfumc.org/wp-content/uploads/2026/03/Spoke-Word_Event.jpg
ORGANIZER;CN="Pastor Jon":MAILTO:jon@brightonfumc.org
END:VEVENT
BEGIN:VEVENT
DTSTART;TZID=America/Detroit:20260628T170000
DTEND;TZID=America/Detroit:20260628T180000
DTSTAMP:20260419T115744
CREATED:20251028T184525Z
LAST-MODIFIED:20251124T180152Z
UID:10002602-1782666000-1782669600@www.brightonfumc.org
SUMMARY:Fish & Loaves Community Dinner
DESCRIPTION:Fish and Loaves is a free community meal in Brighton provided by local churches. First UMC – Brighton Campus hosts the dine-in meal on these 2025 dates: Dec. 28 and 2026: Feb. 22\, April 26\, June 28\, Aug. 23\, Oct. 25\, Dec. 27. You do not need a reservation. We look forward to seeing you. \n\nVolunteers and food donations are welcome.\nContact Deborah Scharp. \nConsider helping in one of these ways: \n\n3:30 pm Set tables\, set up coffee station\, prep food\n5 pm Serve food\, visit with guests\n5:30 pm Dishwashing\nSign Up to provide: desserts\, rolls and salads (or purchase food and turn in receipts for reimbursement)\n\nFish and Loaves is coordinated by Love INC and serves all who come seeking food and fellowship.
URL:https://www.brightonfumc.org/event/fish-loaves-community-dinner/2026-06-28/
LOCATION:First United Methodist Church-Brighton Campus\, 400 E Grand River Ave\, Brighton\, MI\, 48116\, United States
CATEGORIES:Fellowship,Mission & Outreach
ATTACH;FMTTYPE=image/jpeg:https://www.brightonfumc.org/wp-content/uploads/2024/04/Fish-Loaves-2024_web.jpg
END:VEVENT
END:VCALENDAR