BEGIN:VCALENDAR
VERSION:2.0
PRODID:-//First United Methodist Church-Brighton &amp; Whitmore Lake - ECPv6.15.17.1//NONSGML v1.0//EN
CALSCALE:GREGORIAN
METHOD:PUBLISH
X-WR-CALNAME:First United Methodist Church-Brighton &amp; Whitmore Lake
X-ORIGINAL-URL:https://www.brightonfumc.org
X-WR-CALDESC:Events for First United Methodist Church-Brighton &amp; Whitmore Lake
REFRESH-INTERVAL;VALUE=DURATION:PT1H
X-Robots-Tag:noindex
X-PUBLISHED-TTL:PT1H
BEGIN:VTIMEZONE
TZID:America/Detroit
BEGIN:DAYLIGHT
TZOFFSETFROM:-0500
TZOFFSETTO:-0400
TZNAME:EDT
DTSTART:20260308T070000
END:DAYLIGHT
BEGIN:STANDARD
TZOFFSETFROM:-0400
TZOFFSETTO:-0500
TZNAME:EST
DTSTART:20261101T060000
END:STANDARD
BEGIN:DAYLIGHT
TZOFFSETFROM:-0500
TZOFFSETTO:-0400
TZNAME:EDT
DTSTART:20270314T070000
END:DAYLIGHT
BEGIN:STANDARD
TZOFFSETFROM:-0400
TZOFFSETTO:-0500
TZNAME:EST
DTSTART:20271107T060000
END:STANDARD
BEGIN:DAYLIGHT
TZOFFSETFROM:-0500
TZOFFSETTO:-0400
TZNAME:EDT
DTSTART:20280312T070000
END:DAYLIGHT
BEGIN:STANDARD
TZOFFSETFROM:-0400
TZOFFSETTO:-0500
TZNAME:EST
DTSTART:20281105T060000
END:STANDARD
END:VTIMEZONE
BEGIN:VEVENT
DTSTART;TZID=America/Detroit:20270303T170000
DTEND;TZID=America/Detroit:20270303T190000
DTSTAMP:20260420T022350
CREATED:20260310T174921Z
LAST-MODIFIED:20260330T211155Z
UID:10002701-1804093200-1804100400@www.brightonfumc.org
SUMMARY:Spoke & Word Cycling Group
DESCRIPTION:You are invited to the Spoke & Word cycling group Wednesday nights at 5 pm at the Trail Connector trailhead near JCPenney in the Green Oak Village Place mall with your bicycle. The group will bike between 7-25 miles to Kensington Metropark and back (early weeks will start easy and build up). Bring water and snacks if needed. All ages and abilities welcome.\n\n 
URL:https://www.brightonfumc.org/event/spoke-word-cycling-group/2027-03-03/
LOCATION:Trail Connector Trailhead\, 9608 Village Pl Blvd\, Brighton\, 48116\, United States
CATEGORIES:Fellowship
ATTACH;FMTTYPE=image/jpeg:https://www.brightonfumc.org/wp-content/uploads/2026/03/Spoke-Word_Event.jpg
ORGANIZER;CN="Pastor Jon":MAILTO:jon@brightonfumc.org
END:VEVENT
BEGIN:VEVENT
DTSTART;TZID=America/Detroit:20270308T123000
DTEND;TZID=America/Detroit:20270308T143000
DTSTAMP:20260420T022350
CREATED:20260331T161227Z
LAST-MODIFIED:20260331T161227Z
UID:10002747-1804509000-1804516200@www.brightonfumc.org
SUMMARY:Memorial Garden Volunteers
DESCRIPTION:Memorial Garden volunteers welcome! You’re invited to be part of the volunteer crew that meets once a month on the second Monday of the month May-November to plant and care for the beautiful memorial garden and the cross and flame garden. Contact Macky Bachelor.
URL:https://www.brightonfumc.org/event/memorial-garden-volunteers-2/2027-03-08/
LOCATION:First United Methodist Church-Brighton Campus\, 400 E Grand River Ave\, Brighton\, MI\, 48116\, United States
CATEGORIES:Fellowship
ATTACH;FMTTYPE=image/jpeg:https://www.brightonfumc.org/wp-content/uploads/2026/03/Memorial-Garden-Volunteers_2026-summer.jpg
ORGANIZER;CN="Macky Bachelor":MAILTO:Bachelorm2@aol.com
END:VEVENT
BEGIN:VEVENT
DTSTART;TZID=America/Detroit:20270310T170000
DTEND;TZID=America/Detroit:20270310T190000
DTSTAMP:20260420T022350
CREATED:20260310T174921Z
LAST-MODIFIED:20260330T211155Z
UID:10002702-1804698000-1804705200@www.brightonfumc.org
SUMMARY:Spoke & Word Cycling Group
DESCRIPTION:You are invited to the Spoke & Word cycling group Wednesday nights at 5 pm at the Trail Connector trailhead near JCPenney in the Green Oak Village Place mall with your bicycle. The group will bike between 7-25 miles to Kensington Metropark and back (early weeks will start easy and build up). Bring water and snacks if needed. All ages and abilities welcome.\n\n 
URL:https://www.brightonfumc.org/event/spoke-word-cycling-group/2027-03-10/
LOCATION:Trail Connector Trailhead\, 9608 Village Pl Blvd\, Brighton\, 48116\, United States
CATEGORIES:Fellowship
ATTACH;FMTTYPE=image/jpeg:https://www.brightonfumc.org/wp-content/uploads/2026/03/Spoke-Word_Event.jpg
ORGANIZER;CN="Pastor Jon":MAILTO:jon@brightonfumc.org
END:VEVENT
BEGIN:VEVENT
DTSTART;TZID=America/Detroit:20270317T170000
DTEND;TZID=America/Detroit:20270317T190000
DTSTAMP:20260420T022350
CREATED:20260310T174921Z
LAST-MODIFIED:20260330T211155Z
UID:10002703-1805302800-1805310000@www.brightonfumc.org
SUMMARY:Spoke & Word Cycling Group
DESCRIPTION:You are invited to the Spoke & Word cycling group Wednesday nights at 5 pm at the Trail Connector trailhead near JCPenney in the Green Oak Village Place mall with your bicycle. The group will bike between 7-25 miles to Kensington Metropark and back (early weeks will start easy and build up). Bring water and snacks if needed. All ages and abilities welcome.\n\n 
URL:https://www.brightonfumc.org/event/spoke-word-cycling-group/2027-03-17/
LOCATION:Trail Connector Trailhead\, 9608 Village Pl Blvd\, Brighton\, 48116\, United States
CATEGORIES:Fellowship
ATTACH;FMTTYPE=image/jpeg:https://www.brightonfumc.org/wp-content/uploads/2026/03/Spoke-Word_Event.jpg
ORGANIZER;CN="Pastor Jon":MAILTO:jon@brightonfumc.org
END:VEVENT
BEGIN:VEVENT
DTSTART;TZID=America/Detroit:20270324T170000
DTEND;TZID=America/Detroit:20270324T190000
DTSTAMP:20260420T022350
CREATED:20260310T174921Z
LAST-MODIFIED:20260330T211155Z
UID:10002704-1805907600-1805914800@www.brightonfumc.org
SUMMARY:Spoke & Word Cycling Group
DESCRIPTION:You are invited to the Spoke & Word cycling group Wednesday nights at 5 pm at the Trail Connector trailhead near JCPenney in the Green Oak Village Place mall with your bicycle. The group will bike between 7-25 miles to Kensington Metropark and back (early weeks will start easy and build up). Bring water and snacks if needed. All ages and abilities welcome.\n\n 
URL:https://www.brightonfumc.org/event/spoke-word-cycling-group/2027-03-24/
LOCATION:Trail Connector Trailhead\, 9608 Village Pl Blvd\, Brighton\, 48116\, United States
CATEGORIES:Fellowship
ATTACH;FMTTYPE=image/jpeg:https://www.brightonfumc.org/wp-content/uploads/2026/03/Spoke-Word_Event.jpg
ORGANIZER;CN="Pastor Jon":MAILTO:jon@brightonfumc.org
END:VEVENT
BEGIN:VEVENT
DTSTART;TZID=America/Detroit:20270331T170000
DTEND;TZID=America/Detroit:20270331T190000
DTSTAMP:20260420T022350
CREATED:20260310T174921Z
LAST-MODIFIED:20260330T211155Z
UID:10002705-1806512400-1806519600@www.brightonfumc.org
SUMMARY:Spoke & Word Cycling Group
DESCRIPTION:You are invited to the Spoke & Word cycling group Wednesday nights at 5 pm at the Trail Connector trailhead near JCPenney in the Green Oak Village Place mall with your bicycle. The group will bike between 7-25 miles to Kensington Metropark and back (early weeks will start easy and build up). Bring water and snacks if needed. All ages and abilities welcome.\n\n 
URL:https://www.brightonfumc.org/event/spoke-word-cycling-group/2027-03-31/
LOCATION:Trail Connector Trailhead\, 9608 Village Pl Blvd\, Brighton\, 48116\, United States
CATEGORIES:Fellowship
ATTACH;FMTTYPE=image/jpeg:https://www.brightonfumc.org/wp-content/uploads/2026/03/Spoke-Word_Event.jpg
ORGANIZER;CN="Pastor Jon":MAILTO:jon@brightonfumc.org
END:VEVENT
END:VCALENDAR