BEGIN:VCALENDAR
VERSION:2.0
PRODID:-//First United Methodist Church-Brighton &amp; Whitmore Lake - ECPv6.15.20//NONSGML v1.0//EN
CALSCALE:GREGORIAN
METHOD:PUBLISH
X-WR-CALNAME:First United Methodist Church-Brighton &amp; Whitmore Lake
X-ORIGINAL-URL:https://www.brightonfumc.org
X-WR-CALDESC:Events for First United Methodist Church-Brighton &amp; Whitmore Lake
REFRESH-INTERVAL;VALUE=DURATION:PT1H
X-Robots-Tag:noindex
X-PUBLISHED-TTL:PT1H
BEGIN:VTIMEZONE
TZID:America/Detroit
BEGIN:DAYLIGHT
TZOFFSETFROM:-0500
TZOFFSETTO:-0400
TZNAME:EDT
DTSTART:20250309T070000
END:DAYLIGHT
BEGIN:STANDARD
TZOFFSETFROM:-0400
TZOFFSETTO:-0500
TZNAME:EST
DTSTART:20251102T060000
END:STANDARD
BEGIN:DAYLIGHT
TZOFFSETFROM:-0500
TZOFFSETTO:-0400
TZNAME:EDT
DTSTART:20260308T070000
END:DAYLIGHT
BEGIN:STANDARD
TZOFFSETFROM:-0400
TZOFFSETTO:-0500
TZNAME:EST
DTSTART:20261101T060000
END:STANDARD
BEGIN:DAYLIGHT
TZOFFSETFROM:-0500
TZOFFSETTO:-0400
TZNAME:EDT
DTSTART:20270314T070000
END:DAYLIGHT
BEGIN:STANDARD
TZOFFSETFROM:-0400
TZOFFSETTO:-0500
TZNAME:EST
DTSTART:20271107T060000
END:STANDARD
END:VTIMEZONE
BEGIN:VEVENT
DTSTART;TZID=America/Detroit:20260501T093000
DTEND;TZID=America/Detroit:20260501T110000
DTSTAMP:20260423T173954
CREATED:20260423T171802Z
LAST-MODIFIED:20260423T172352Z
UID:10002761-1777627800-1777633200@www.brightonfumc.org
SUMMARY:Falling Upward Book Study
DESCRIPTION:Many of us tend to think of the second half of life as largely about getting old\, dealing with health issues\, and letting go of life\, but the whole thesis of this book is exactly the opposite.  What looks like falling down can be experienced as “falling upward.” The book offers practical guidance that you can use to live a life of love and meaning in a world of suffering and challenge. \nLearn how we “grow spiritually much more by doing it wrong than by doing it right.” Understand why so many of us resist falling into the second half of life. \nRegister \nPastor Jon shares that author Richard Rohr is brilliant thinker and a wonderful writer. Father Rohr is a regular Sojourners and Tikkun magazines.
URL:https://www.brightonfumc.org/event/falling-upward-book-study/2026-05-01/
LOCATION:First United Methodist Church-Brighton Campus\, 400 E Grand River Ave\, Brighton\, MI\, 48116\, United States
CATEGORIES:Small Groups & Classes
ATTACH;FMTTYPE=image/jpeg:https://www.brightonfumc.org/wp-content/uploads/2026/04/Pastor-Jon-Study_Falling-Upward-2026.jpg
ORGANIZER;CN="Pastor Jon":MAILTO:jon@brightonfumc.org
END:VEVENT
BEGIN:VEVENT
DTSTART;TZID=America/Detroit:20260508T093000
DTEND;TZID=America/Detroit:20260508T110000
DTSTAMP:20260423T173954
CREATED:20260423T171802Z
LAST-MODIFIED:20260423T172352Z
UID:10002762-1778232600-1778238000@www.brightonfumc.org
SUMMARY:Falling Upward Book Study
DESCRIPTION:Many of us tend to think of the second half of life as largely about getting old\, dealing with health issues\, and letting go of life\, but the whole thesis of this book is exactly the opposite.  What looks like falling down can be experienced as “falling upward.” The book offers practical guidance that you can use to live a life of love and meaning in a world of suffering and challenge. \nLearn how we “grow spiritually much more by doing it wrong than by doing it right.” Understand why so many of us resist falling into the second half of life. \nRegister \nPastor Jon shares that author Richard Rohr is brilliant thinker and a wonderful writer. Father Rohr is a regular Sojourners and Tikkun magazines.
URL:https://www.brightonfumc.org/event/falling-upward-book-study/2026-05-08/
LOCATION:First United Methodist Church-Brighton Campus\, 400 E Grand River Ave\, Brighton\, MI\, 48116\, United States
CATEGORIES:Small Groups & Classes
ATTACH;FMTTYPE=image/jpeg:https://www.brightonfumc.org/wp-content/uploads/2026/04/Pastor-Jon-Study_Falling-Upward-2026.jpg
ORGANIZER;CN="Pastor Jon":MAILTO:jon@brightonfumc.org
END:VEVENT
BEGIN:VEVENT
DTSTART;TZID=America/Detroit:20260515T093000
DTEND;TZID=America/Detroit:20260515T110000
DTSTAMP:20260423T173954
CREATED:20260423T171802Z
LAST-MODIFIED:20260423T172352Z
UID:10002763-1778837400-1778842800@www.brightonfumc.org
SUMMARY:Falling Upward Book Study
DESCRIPTION:Many of us tend to think of the second half of life as largely about getting old\, dealing with health issues\, and letting go of life\, but the whole thesis of this book is exactly the opposite.  What looks like falling down can be experienced as “falling upward.” The book offers practical guidance that you can use to live a life of love and meaning in a world of suffering and challenge. \nLearn how we “grow spiritually much more by doing it wrong than by doing it right.” Understand why so many of us resist falling into the second half of life. \nRegister \nPastor Jon shares that author Richard Rohr is brilliant thinker and a wonderful writer. Father Rohr is a regular Sojourners and Tikkun magazines.
URL:https://www.brightonfumc.org/event/falling-upward-book-study/2026-05-15/
LOCATION:First United Methodist Church-Brighton Campus\, 400 E Grand River Ave\, Brighton\, MI\, 48116\, United States
CATEGORIES:Small Groups & Classes
ATTACH;FMTTYPE=image/jpeg:https://www.brightonfumc.org/wp-content/uploads/2026/04/Pastor-Jon-Study_Falling-Upward-2026.jpg
ORGANIZER;CN="Pastor Jon":MAILTO:jon@brightonfumc.org
END:VEVENT
BEGIN:VEVENT
DTSTART;TZID=America/Detroit:20260522T093000
DTEND;TZID=America/Detroit:20260522T110000
DTSTAMP:20260423T173954
CREATED:20260423T171802Z
LAST-MODIFIED:20260423T172352Z
UID:10002764-1779442200-1779447600@www.brightonfumc.org
SUMMARY:Falling Upward Book Study
DESCRIPTION:Many of us tend to think of the second half of life as largely about getting old\, dealing with health issues\, and letting go of life\, but the whole thesis of this book is exactly the opposite.  What looks like falling down can be experienced as “falling upward.” The book offers practical guidance that you can use to live a life of love and meaning in a world of suffering and challenge. \nLearn how we “grow spiritually much more by doing it wrong than by doing it right.” Understand why so many of us resist falling into the second half of life. \nRegister \nPastor Jon shares that author Richard Rohr is brilliant thinker and a wonderful writer. Father Rohr is a regular Sojourners and Tikkun magazines.
URL:https://www.brightonfumc.org/event/falling-upward-book-study/2026-05-22/
LOCATION:First United Methodist Church-Brighton Campus\, 400 E Grand River Ave\, Brighton\, MI\, 48116\, United States
CATEGORIES:Small Groups & Classes
ATTACH;FMTTYPE=image/jpeg:https://www.brightonfumc.org/wp-content/uploads/2026/04/Pastor-Jon-Study_Falling-Upward-2026.jpg
ORGANIZER;CN="Pastor Jon":MAILTO:jon@brightonfumc.org
END:VEVENT
END:VCALENDAR