BEGIN:VCALENDAR
VERSION:2.0
PRODID:-//First United Methodist Church-Brighton &amp; Whitmore Lake - ECPv6.15.17.1//NONSGML v1.0//EN
CALSCALE:GREGORIAN
METHOD:PUBLISH
X-WR-CALNAME:First United Methodist Church-Brighton &amp; Whitmore Lake
X-ORIGINAL-URL:https://www.brightonfumc.org
X-WR-CALDESC:Events for First United Methodist Church-Brighton &amp; Whitmore Lake
REFRESH-INTERVAL;VALUE=DURATION:PT1H
X-Robots-Tag:noindex
X-PUBLISHED-TTL:PT1H
BEGIN:VTIMEZONE
TZID:America/Detroit
BEGIN:DAYLIGHT
TZOFFSETFROM:-0500
TZOFFSETTO:-0400
TZNAME:EDT
DTSTART:20250309T070000
END:DAYLIGHT
BEGIN:STANDARD
TZOFFSETFROM:-0400
TZOFFSETTO:-0500
TZNAME:EST
DTSTART:20251102T060000
END:STANDARD
BEGIN:DAYLIGHT
TZOFFSETFROM:-0500
TZOFFSETTO:-0400
TZNAME:EDT
DTSTART:20260308T070000
END:DAYLIGHT
BEGIN:STANDARD
TZOFFSETFROM:-0400
TZOFFSETTO:-0500
TZNAME:EST
DTSTART:20261101T060000
END:STANDARD
BEGIN:DAYLIGHT
TZOFFSETFROM:-0500
TZOFFSETTO:-0400
TZNAME:EDT
DTSTART:20270314T070000
END:DAYLIGHT
BEGIN:STANDARD
TZOFFSETFROM:-0400
TZOFFSETTO:-0500
TZNAME:EST
DTSTART:20271107T060000
END:STANDARD
END:VTIMEZONE
BEGIN:VEVENT
DTSTART;TZID=America/Detroit:20260126T120000
DTEND;TZID=America/Detroit:20260126T180000
DTSTAMP:20260419T120027
CREATED:20220727T161814Z
LAST-MODIFIED:20260126T163703Z
UID:10000023-1769428800-1769450400@www.brightonfumc.org
SUMMARY:Blood Drive - CANCELLED
DESCRIPTION:Update Jan. 26\, 1 pm: The Red Cross has cancelled today’s blood drive due to staff issues related to the weather/school closings. \nYou can give the gift of life at the Red Cross Blood Drive. Create your blood donation appointment directly with the Red Cross. Walk ins welcome up to 5:45 pm. \n\n\nThe need for blood is constant and only volunteer donors can fulfill that need for patients in our community. Nationwide\, someone needs a unit of blood every 2 to 3 seconds and most of us will need blood in our lifetime. \n\n\nVolunteers (and cookies) are needed on the day of the drive\, contact Kara Shuell or use the sign up form below. \nSignup Genius for Volunteers
URL:https://www.brightonfumc.org/event/blood-drive/
LOCATION:First United Methodist Church-Brighton Campus\, 400 E Grand River Ave\, Brighton\, MI\, 48116\, United States
CATEGORIES:Mission & Outreach
ATTACH;FMTTYPE=image/jpeg:https://www.brightonfumc.org/wp-content/uploads/2022/07/Blood-drive-2026-01_event.jpg
ORGANIZER;CN="Lydia Rosentreter Bangert":MAILTO:lydiarb63@gmail.com
END:VEVENT
END:VCALENDAR