BEGIN:VCALENDAR
VERSION:2.0
PRODID:-//First United Methodist Church-Brighton &amp; Whitmore Lake - ECPv6.15.20//NONSGML v1.0//EN
CALSCALE:GREGORIAN
METHOD:PUBLISH
X-ORIGINAL-URL:https://www.brightonfumc.org
X-WR-CALDESC:Events for First United Methodist Church-Brighton &amp; Whitmore Lake
REFRESH-INTERVAL;VALUE=DURATION:PT1H
X-Robots-Tag:noindex
X-PUBLISHED-TTL:PT1H
BEGIN:VTIMEZONE
TZID:America/Detroit
BEGIN:DAYLIGHT
TZOFFSETFROM:-0500
TZOFFSETTO:-0400
TZNAME:EDT
DTSTART:20250309T070000
END:DAYLIGHT
BEGIN:STANDARD
TZOFFSETFROM:-0400
TZOFFSETTO:-0500
TZNAME:EST
DTSTART:20251102T060000
END:STANDARD
BEGIN:DAYLIGHT
TZOFFSETFROM:-0500
TZOFFSETTO:-0400
TZNAME:EDT
DTSTART:20260308T070000
END:DAYLIGHT
BEGIN:STANDARD
TZOFFSETFROM:-0400
TZOFFSETTO:-0500
TZNAME:EST
DTSTART:20261101T060000
END:STANDARD
BEGIN:DAYLIGHT
TZOFFSETFROM:-0500
TZOFFSETTO:-0400
TZNAME:EDT
DTSTART:20270314T070000
END:DAYLIGHT
BEGIN:STANDARD
TZOFFSETFROM:-0400
TZOFFSETTO:-0500
TZNAME:EST
DTSTART:20271107T060000
END:STANDARD
END:VTIMEZONE
BEGIN:VEVENT
DTSTART;TZID=America/Detroit:20260620T090000
DTEND;TZID=America/Detroit:20260620T160000
DTSTAMP:20260423T181610
CREATED:20250505T190347Z
LAST-MODIFIED:20260423T185555Z
UID:10002108-1781946000-1781971200@www.brightonfumc.org
SUMMARY:Habitat Volunteer Build
DESCRIPTION:Help the Good News Group and Habitat for Humanity of Huron Valley a new Ypsilanti home for a local family in need of safe\, stable and affordable housing! Our House Leaders will ensure a variety of tasks are available for a wide variety of skill levels and physical abilities. \n Contact April Schauer\, amschauer19@gmail.com. \nRegister: https://givepul.se/d90ilh  (lock code: GNG26) note: code is case sensitive \nLearn more at https://www.brightonfumc.org/missions-outreach-2/habitat-for-humanity/ \nFor those who wish to volunteer\, but are unavailable on the FUMC scheduled dates (June 20\, July 31\, Sept. 11)\, may sign up to be a short notice volunteer.  Use this link to add your name to the “Short Notice List” — You will receive an email asking if you can help out any time we need extra workers on a work day that is not a scheduled Brighton/WL work day (usually 3 or 4 opportunities each summer). \n\nRegistration Instructions \n\n\nClick on this link: https://givepul.se/d90ilh (this link is specific to FUMC-Brighton & Whitmore Lake)\n\n\nClick “Register”\n\n\nEnter lock code GNG26 (case sensitive)\n\n\nChoose date and click next\n\n\nComplete registration information (if volunteer in past\, use same email when prompted)\n\n\nCheck liability and waive–click next\nRegistration complete!\n\n\nNow you are signed up! If you find you need to cancel or if you have questions\, please contact April Schauer.
URL:https://www.brightonfumc.org/event/habitat-volunteer-build/
LOCATION:Habitat – Good News Group\, 1015 Gault Dr\, Ypsilanti\, United States
CATEGORIES:Mission & Outreach
ATTACH;FMTTYPE=image/jpeg:https://www.brightonfumc.org/wp-content/uploads/2025/05/Habitat-2026-Build_June-slide.jpg
END:VEVENT
END:VCALENDAR