BEGIN:VCALENDAR
VERSION:2.0
PRODID:-//First United Methodist Church-Brighton &amp; Whitmore Lake - ECPv6.15.20//NONSGML v1.0//EN
CALSCALE:GREGORIAN
METHOD:PUBLISH
X-WR-CALNAME:First United Methodist Church-Brighton &amp; Whitmore Lake
X-ORIGINAL-URL:https://www.brightonfumc.org
X-WR-CALDESC:Events for First United Methodist Church-Brighton &amp; Whitmore Lake
REFRESH-INTERVAL;VALUE=DURATION:PT1H
X-Robots-Tag:noindex
X-PUBLISHED-TTL:PT1H
BEGIN:VTIMEZONE
TZID:America/Detroit
BEGIN:DAYLIGHT
TZOFFSETFROM:-0500
TZOFFSETTO:-0400
TZNAME:EDT
DTSTART:20240310T070000
END:DAYLIGHT
BEGIN:STANDARD
TZOFFSETFROM:-0400
TZOFFSETTO:-0500
TZNAME:EST
DTSTART:20241103T060000
END:STANDARD
BEGIN:DAYLIGHT
TZOFFSETFROM:-0500
TZOFFSETTO:-0400
TZNAME:EDT
DTSTART:20250309T070000
END:DAYLIGHT
BEGIN:STANDARD
TZOFFSETFROM:-0400
TZOFFSETTO:-0500
TZNAME:EST
DTSTART:20251102T060000
END:STANDARD
BEGIN:DAYLIGHT
TZOFFSETFROM:-0500
TZOFFSETTO:-0400
TZNAME:EDT
DTSTART:20260308T070000
END:DAYLIGHT
BEGIN:STANDARD
TZOFFSETFROM:-0400
TZOFFSETTO:-0500
TZNAME:EST
DTSTART:20261101T060000
END:STANDARD
END:VTIMEZONE
BEGIN:VEVENT
DTSTART;TZID=America/Detroit:20251125T190000
DTEND;TZID=America/Detroit:20251125T203000
DTSTAMP:20260423T105911
CREATED:20250731T171407Z
LAST-MODIFIED:20251006T184707Z
UID:10002447-1764097200-1764102600@www.brightonfumc.org
SUMMARY:Disciple Bible Study
DESCRIPTION:Disciple Fast Track provides a great option for busy people who seek to gain a better understanding of the Bible and want to grow as disciples. No previous Bible study is required. Participants are asked to read a manageable 3-5 chapters of the Bible (Old Testament) daily in preparation for the weekly meetings. As part of the weekly group meeting you will watch a brief\, illustrated video\, followed by a lively and engaging discussion of the current weeks’ session. Led by Bruce Stark. Runs Sept. 9-Nov. 25.
URL:https://www.brightonfumc.org/event/disciple-bible-study/2025-11-25/
LOCATION:First United Methodist Church-Brighton Campus\, 400 E Grand River Ave\, Brighton\, MI\, 48116\, United States
CATEGORIES:Small Groups & Classes
ATTACH;FMTTYPE=image/jpeg:https://www.brightonfumc.org/wp-content/uploads/2025/05/Disciple-Bible-Study-OT_2025-Fall.jpg
ORGANIZER;CN="Bruce Stark":MAILTO:bstark@andersonexpress.com
END:VEVENT
END:VCALENDAR