BEGIN:VCALENDAR
VERSION:2.0
PRODID:-//First United Methodist Church-Brighton &amp; Whitmore Lake - ECPv6.15.17.1//NONSGML v1.0//EN
CALSCALE:GREGORIAN
METHOD:PUBLISH
X-ORIGINAL-URL:https://www.brightonfumc.org
X-WR-CALDESC:Events for First United Methodist Church-Brighton &amp; Whitmore Lake
REFRESH-INTERVAL;VALUE=DURATION:PT1H
X-Robots-Tag:noindex
X-PUBLISHED-TTL:PT1H
BEGIN:VTIMEZONE
TZID:America/Detroit
BEGIN:DAYLIGHT
TZOFFSETFROM:-0500
TZOFFSETTO:-0400
TZNAME:EDT
DTSTART:20250309T070000
END:DAYLIGHT
BEGIN:STANDARD
TZOFFSETFROM:-0400
TZOFFSETTO:-0500
TZNAME:EST
DTSTART:20251102T060000
END:STANDARD
BEGIN:DAYLIGHT
TZOFFSETFROM:-0500
TZOFFSETTO:-0400
TZNAME:EDT
DTSTART:20260308T070000
END:DAYLIGHT
BEGIN:STANDARD
TZOFFSETFROM:-0400
TZOFFSETTO:-0500
TZNAME:EST
DTSTART:20261101T060000
END:STANDARD
BEGIN:DAYLIGHT
TZOFFSETFROM:-0500
TZOFFSETTO:-0400
TZNAME:EDT
DTSTART:20270314T070000
END:DAYLIGHT
BEGIN:STANDARD
TZOFFSETFROM:-0400
TZOFFSETTO:-0500
TZNAME:EST
DTSTART:20271107T060000
END:STANDARD
END:VTIMEZONE
BEGIN:VEVENT
DTSTART;TZID=America/Detroit:20260126T170000
DTEND;TZID=America/Detroit:20260126T193000
DTSTAMP:20260420T084140
CREATED:20251215T200027Z
LAST-MODIFIED:20251215T200027Z
UID:10002609-1769446800-1769455800@www.brightonfumc.org
SUMMARY:Preschool Open House
DESCRIPTION:First Steps Preschool 2026-27 Pre-Registration Open House: Meet the teachers\, tour the classrooms\, and learn more about what makes First Steps Preschool an amazing choice for your child’s preschool education.\n\n\nFirst Steps Preschool is a nonprofit\, creatively-oriented\, Christian preschool located inside First United Methodist Church-Brighton Campus. Our half-day programs offer a wide range of engaging activities to spark the social\, emotional\, physical and intellectual growth of 2-\, 3- and 4-year-old children. Families appreciate our small class sizes that promote individualized attention and our outstanding teaching staff!\n\n\nYou do not need to be a member of this or any church to participate.
URL:https://www.brightonfumc.org/event/preschool-open-house/
LOCATION:First United Methodist Church-Brighton Campus\, 400 E Grand River Ave\, Brighton\, MI\, 48116\, United States
CATEGORIES:Children
ATTACH;FMTTYPE=image/jpeg:https://www.brightonfumc.org/wp-content/uploads/2025/12/Preschool-Open-House_2026-01.jpg
ORGANIZER;CN="First Steps Preschool":MAILTO:firststeps@brightonfumc.org
END:VEVENT
END:VCALENDAR