BEGIN:VCALENDAR
VERSION:2.0
PRODID:-//First United Methodist Church-Brighton &amp; Whitmore Lake - ECPv6.15.17.1//NONSGML v1.0//EN
CALSCALE:GREGORIAN
METHOD:PUBLISH
X-WR-CALNAME:First United Methodist Church-Brighton &amp; Whitmore Lake
X-ORIGINAL-URL:https://www.brightonfumc.org
X-WR-CALDESC:Events for First United Methodist Church-Brighton &amp; Whitmore Lake
REFRESH-INTERVAL;VALUE=DURATION:PT1H
X-Robots-Tag:noindex
X-PUBLISHED-TTL:PT1H
BEGIN:VTIMEZONE
TZID:America/Detroit
BEGIN:DAYLIGHT
TZOFFSETFROM:-0500
TZOFFSETTO:-0400
TZNAME:EDT
DTSTART:20250309T070000
END:DAYLIGHT
BEGIN:STANDARD
TZOFFSETFROM:-0400
TZOFFSETTO:-0500
TZNAME:EST
DTSTART:20251102T060000
END:STANDARD
BEGIN:DAYLIGHT
TZOFFSETFROM:-0500
TZOFFSETTO:-0400
TZNAME:EDT
DTSTART:20260308T070000
END:DAYLIGHT
BEGIN:STANDARD
TZOFFSETFROM:-0400
TZOFFSETTO:-0500
TZNAME:EST
DTSTART:20261101T060000
END:STANDARD
BEGIN:DAYLIGHT
TZOFFSETFROM:-0500
TZOFFSETTO:-0400
TZNAME:EDT
DTSTART:20270314T070000
END:DAYLIGHT
BEGIN:STANDARD
TZOFFSETFROM:-0400
TZOFFSETTO:-0500
TZNAME:EST
DTSTART:20271107T060000
END:STANDARD
END:VTIMEZONE
BEGIN:VEVENT
DTSTART;TZID=America/Detroit:20260515T130000
DTEND;TZID=America/Detroit:20260517T110000
DTSTAMP:20260419T083102
CREATED:20220210T013051Z
LAST-MODIFIED:20251104T204711Z
UID:10000001-1778850000-1779015600@www.brightonfumc.org
SUMMARY:Family Camping-May
DESCRIPTION:Reservations for 2026 Family Camping at Myers Lake Camping & Cabins (Byron\, MI) are now open — on a first come basis. No sites are being held.\nReserve online or Call Myers Lake Camping & Cabins  –  Cindy & Steve: (810) 370-1232\n\nMay 15-17\, 2025\n\n\nRates are listed as $55/night (lots 1-60)\, $70/night (lakeview lots 61-107). All sites are full hook-up\, 50/30.\nCabins are $85-125 / night\nEnjoy evening vespers and campfires together\nSaturday night potluck\nSunday morning devotions\nAmenities: swimming\, fishing\, canoeing\, playground\, hiking\, hayrides\nNot a camper? Come out for the day and the Saturday potluck.\n\nPlease email your site number to Gene or Suzanne after you have made your reservations. \n  \n 
URL:https://www.brightonfumc.org/event/family-camping-may/
LOCATION:Myers Lake Camping & Cabins\, 10575 Silver Lake Rd\, Byron\, 48418
CATEGORIES:Fellowship
ATTACH;FMTTYPE=image/jpeg:https://www.brightonfumc.org/wp-content/uploads/2022/02/2025-05-Myers-Lake-Family-Camp-12_1280x720.jpg
ORGANIZER;CN="Gene Smith":MAILTO:imgsmith1451@gmail.com
END:VEVENT
BEGIN:VEVENT
DTSTART;VALUE=DATE:20261004
DTEND;VALUE=DATE:20261010
DTSTAMP:20260419T083102
CREATED:20240131T193308Z
LAST-MODIFIED:20251110T165420Z
UID:10000025-1791072000-1791590399@www.brightonfumc.org
SUMMARY:Red Bird Mission Trip
DESCRIPTION:The Red Bird Mission in Beverly\, Kentucky serves the physical\, educational and spiritual needs of Appalachia. Red Bird Mission is a ministry of the United Methodist Church. There are opportunities for people of all ages and abilities to participate in this mission trip that will happen Oct. 4-9\, 2026. Contact Gene Smith. \nSome examples of work projects are roof replacement\, small room additions\, painting\, building porches or ramps\, and grounds keeping. Other light-duty work is available such as office work\, craft and community store helpers\, and recycling. A single fee covers the cost of each person’s lodging\, meals\, and materials used. \nNote: when donating to this mission\, please specify “trip\,” “scrap metal drive\,” etc. Thank you! \n 
URL:https://www.brightonfumc.org/event/red-bird-mission-trip/
LOCATION:Red Bird Mission\, Dorm Road\, Queendale\, 40913\, United States
CATEGORIES:Mission & Outreach
ATTACH;FMTTYPE=image/jpeg:https://www.brightonfumc.org/wp-content/uploads/2024/01/Red-Bird-2025-10-gs-2-e1762793586112.jpg
ORGANIZER;CN="Gene Smith":MAILTO:imgsmith1451@gmail.com
END:VEVENT
END:VCALENDAR