BEGIN:VCALENDAR
VERSION:2.0
PRODID:-//First United Methodist Church-Brighton &amp; Whitmore Lake - ECPv6.15.17.1//NONSGML v1.0//EN
CALSCALE:GREGORIAN
METHOD:PUBLISH
X-ORIGINAL-URL:https://www.brightonfumc.org
X-WR-CALDESC:Events for First United Methodist Church-Brighton &amp; Whitmore Lake
REFRESH-INTERVAL;VALUE=DURATION:PT1H
X-Robots-Tag:noindex
X-PUBLISHED-TTL:PT1H
BEGIN:VTIMEZONE
TZID:America/Detroit
BEGIN:DAYLIGHT
TZOFFSETFROM:-0500
TZOFFSETTO:-0400
TZNAME:EDT
DTSTART:20240310T070000
END:DAYLIGHT
BEGIN:STANDARD
TZOFFSETFROM:-0400
TZOFFSETTO:-0500
TZNAME:EST
DTSTART:20241103T060000
END:STANDARD
BEGIN:DAYLIGHT
TZOFFSETFROM:-0500
TZOFFSETTO:-0400
TZNAME:EDT
DTSTART:20250309T070000
END:DAYLIGHT
BEGIN:STANDARD
TZOFFSETFROM:-0400
TZOFFSETTO:-0500
TZNAME:EST
DTSTART:20251102T060000
END:STANDARD
BEGIN:DAYLIGHT
TZOFFSETFROM:-0500
TZOFFSETTO:-0400
TZNAME:EDT
DTSTART:20260308T070000
END:DAYLIGHT
BEGIN:STANDARD
TZOFFSETFROM:-0400
TZOFFSETTO:-0500
TZNAME:EST
DTSTART:20261101T060000
END:STANDARD
BEGIN:DAYLIGHT
TZOFFSETFROM:-0500
TZOFFSETTO:-0400
TZNAME:EDT
DTSTART:20270314T070000
END:DAYLIGHT
BEGIN:STANDARD
TZOFFSETFROM:-0400
TZOFFSETTO:-0500
TZNAME:EST
DTSTART:20271107T060000
END:STANDARD
END:VTIMEZONE
BEGIN:VEVENT
DTSTART;TZID=America/Detroit:20260308T103000
DTEND;TZID=America/Detroit:20260308T123000
DTSTAMP:20260419T100909
CREATED:20250217T202935Z
LAST-MODIFIED:20260216T201708Z
UID:10002285-1772965800-1772973000@www.brightonfumc.org
SUMMARY:Road to Justice
DESCRIPTION:Learn about the ways we all can work together toward justice. Sponsored by the Church & Society Committee and its five justice projects\, Economic Justice\, Accessibility for All\, Anti-Bias/Anti-Racism\, Welcoming All: LGBTQ+ Advocacy\, and the Green Team. Pick up a road map\, navigate the rest stops and pick up souvenirs.
URL:https://www.brightonfumc.org/event/road-to-justice/
LOCATION:First United Methodist Church-Brighton Campus\, 400 E Grand River Ave\, Brighton\, MI\, 48116\, United States
CATEGORIES:Church & Society
ATTACH;FMTTYPE=image/jpeg:https://www.brightonfumc.org/wp-content/uploads/2025/02/Road-to-justice_2026-04.jpg
ORGANIZER;CN="Suzanne Everett":MAILTO:suzanne@brightonfumc.org
END:VEVENT
BEGIN:VEVENT
DTSTART;TZID=America/Detroit:20251102T160000
DTEND;TZID=America/Detroit:20251102T180000
DTSTAMP:20260419T100909
CREATED:20251001T194207Z
LAST-MODIFIED:20251002T190436Z
UID:10002522-1762099200-1762106400@www.brightonfumc.org
SUMMARY:Fellowship with a Focus
DESCRIPTION:It’s a Potluck with a twist. Enjoy food and fellowship followed by activity stations sponsored by the hardworking justice projects of the Church & Society Committee. Please bring a dish to pass. Everyone welcome! Families\, too! \nActivities include: \n\nTransportation Bingo\nTrivia (Wits & Wagers Style)\nMindfulness Practice\nWrite an advocacy letter about a current concern to your representatives
URL:https://www.brightonfumc.org/event/fellowship-with-a-focus/
LOCATION:First United Methodist Church-Brighton Campus\, 400 E Grand River Ave\, Brighton\, MI\, 48116\, United States
CATEGORIES:Church & Society,Fellowship
ATTACH;FMTTYPE=image/jpeg:https://www.brightonfumc.org/wp-content/uploads/2025/10/Fellowship-w.-a-Focus-Nov-2-2025_slide.jpg
ORGANIZER;CN="Bryan Facione":MAILTO:bryanfacione@gmail.com
END:VEVENT
END:VCALENDAR