BEGIN:VCALENDAR
VERSION:2.0
PRODID:-//First United Methodist Church-Brighton &amp; Whitmore Lake - ECPv6.15.17.1//NONSGML v1.0//EN
CALSCALE:GREGORIAN
METHOD:PUBLISH
X-ORIGINAL-URL:https://www.brightonfumc.org
X-WR-CALDESC:Events for First United Methodist Church-Brighton &amp; Whitmore Lake
REFRESH-INTERVAL;VALUE=DURATION:PT1H
X-Robots-Tag:noindex
X-PUBLISHED-TTL:PT1H
BEGIN:VTIMEZONE
TZID:America/Detroit
BEGIN:DAYLIGHT
TZOFFSETFROM:-0500
TZOFFSETTO:-0400
TZNAME:EDT
DTSTART:20250309T070000
END:DAYLIGHT
BEGIN:STANDARD
TZOFFSETFROM:-0400
TZOFFSETTO:-0500
TZNAME:EST
DTSTART:20251102T060000
END:STANDARD
BEGIN:DAYLIGHT
TZOFFSETFROM:-0500
TZOFFSETTO:-0400
TZNAME:EDT
DTSTART:20260308T070000
END:DAYLIGHT
BEGIN:STANDARD
TZOFFSETFROM:-0400
TZOFFSETTO:-0500
TZNAME:EST
DTSTART:20261101T060000
END:STANDARD
BEGIN:DAYLIGHT
TZOFFSETFROM:-0500
TZOFFSETTO:-0400
TZNAME:EDT
DTSTART:20270314T070000
END:DAYLIGHT
BEGIN:STANDARD
TZOFFSETFROM:-0400
TZOFFSETTO:-0500
TZNAME:EST
DTSTART:20271107T060000
END:STANDARD
END:VTIMEZONE
BEGIN:VEVENT
DTSTART;TZID=America/Detroit:20260418T090000
DTEND;TZID=America/Detroit:20260418T123000
DTSTAMP:20260419T103045
CREATED:20260203T210304Z
LAST-MODIFIED:20260203T210518Z
UID:10002640-1776502800-1776515400@www.brightonfumc.org
SUMMARY:Heritage District United Women in Faith Prayer Breakfast
DESCRIPTION:“Quiet Hope” Finding Hope in Troubled Times\nGuest Speaker Rev. Dr. Jennifer Browne\, Clergy Assistant to the Bishop and Director of Connectional Ministry \nRegistration: $15 \nRegister by April 13: Registration form pdf \nMission Focus/In-gathering: Please bring personal hygiene items (e.g.\, bar soap\, shampoo\, deodorant\, toothpaste\, feminine products\, razors\, etc.) to benefit Bountiful Harvest of Livingston County. Thank you!
URL:https://www.brightonfumc.org/event/heritage-district-united-women-in-faith-prayer-breakfast/
LOCATION:First United Methodist Church-Brighton Campus\, 400 E Grand River Ave\, Brighton\, MI\, 48116\, United States
CATEGORIES:UMWF
ATTACH;FMTTYPE=image/jpeg:https://www.brightonfumc.org/wp-content/uploads/2026/02/2026-Prayer-Breakfast_web.jpg
ORGANIZER;CN="United Methodist Women in Faith":MAILTO:bledsoerm@gmail.com
END:VEVENT
BEGIN:VEVENT
DTSTART;TZID=America/Detroit:20260219T120000
DTEND;TZID=America/Detroit:20260219T133000
DTSTAMP:20260419T103045
CREATED:20251104T194121Z
LAST-MODIFIED:20260112T195651Z
UID:10002591-1771502400-1771507800@www.brightonfumc.org
SUMMARY:UMWF: Artwork & Luncheon
DESCRIPTION:Everyone is welcome to attend the monthly luncheon and general meeting of United Methodist Women in Faith. \nProgram:  Artwork by Ariel Jin
URL:https://www.brightonfumc.org/event/umwf-february/
LOCATION:First United Methodist Church-Brighton Campus\, 400 E Grand River Ave\, Brighton\, MI\, 48116\, United States
CATEGORIES:UMWF
ATTACH;FMTTYPE=image/jpeg:https://www.brightonfumc.org/wp-content/uploads/2025/11/UMWF-General-Meeting-2026-02.jpg
ORGANIZER;CN="United Methodist Women in Faith":MAILTO:bledsoerm@gmail.com
END:VEVENT
END:VCALENDAR